Package: signifinder Version: 1.8.0 Command: /home/biocbuild/bbs-3.20-bioc/R/bin/R CMD INSTALL signifinder StartedAt: 2025-02-03 16:11:22 -0500 (Mon, 03 Feb 2025) EndedAt: 2025-02-03 16:12:13 -0500 (Mon, 03 Feb 2025) EllapsedTime: 51.4 seconds RetCode: 0 Status: OK