Package: signifinder
Version: 1.7.0
Command: F:\biocbuild\bbs-3.20-bioc\R\bin\R.exe CMD INSTALL signifinder
StartedAt: 2024-06-09 16:58:55 -0400 (Sun, 09 Jun 2024)
EndedAt: 2024-06-09 16:59:59 -0400 (Sun, 09 Jun 2024)
EllapsedTime: 64.7 seconds
RetCode: 0
Status: OK