Package: signifinder Version: 1.8.0 Command: /home/biocbuild/R/R/bin/R CMD INSTALL signifinder StartedAt: 2025-02-03 21:25:29 -0000 (Mon, 03 Feb 2025) EndedAt: 2025-02-03 21:26:32 -0000 (Mon, 03 Feb 2025) EllapsedTime: 63.6 seconds RetCode: 0 Status: OK