Package: sigsquared Version: 1.38.0 Command: rm -rf sigsquared.buildbin-libdir && mkdir sigsquared.buildbin-libdir && /Users/biocbuild/BBS/utils/build-universal.sh sigsquared_1.38.0.tar.gz /Library/Frameworks/R.framework/Resources/bin/R sigsquared.buildbin-libdir StartedAt: 2025-02-05 17:50:19 -0500 (Wed, 05 Feb 2025) EndedAt: 2025-02-05 17:50:29 -0500 (Wed, 05 Feb 2025) EllapsedTime: 9.9 seconds RetCode: 0 Status: OK PackageFile: sigsquared_1.38.0.tgz PackageFileSize: 422.1 KiB