Package: sigsquared Version: 1.38.0 Command: /Library/Frameworks/R.framework/Resources/bin/R CMD build --keep-empty-dirs --no-resave-data sigsquared StartedAt: 2025-02-04 08:20:10 -0500 (Tue, 04 Feb 2025) EndedAt: 2025-02-04 08:20:41 -0500 (Tue, 04 Feb 2025) EllapsedTime: 30.3 seconds RetCode: 0 Status: OK PackageFile: sigsquared_1.38.0.tar.gz PackageFileSize: 441.7 KiB