Package: sigsquared Version: 1.38.0 Command: /Library/Frameworks/R.framework/Resources/bin/R CMD check --install=check:sigsquared.install-out.txt --library=/Library/Frameworks/R.framework/Resources/library --no-vignettes --timings sigsquared_1.38.0.tar.gz StartedAt: 2025-02-05 10:17:23 -0500 (Wed, 05 Feb 2025) EndedAt: 2025-02-05 10:18:35 -0500 (Wed, 05 Feb 2025) EllapsedTime: 72.3 seconds RetCode: 0 Status: OK CheckDir: sigsquared.Rcheck Warnings: 0