Package: sigsquared Version: 1.38.0 Command: /Library/Frameworks/R.framework/Resources/bin/R CMD INSTALL sigsquared StartedAt: 2025-02-03 17:05:44 -0500 (Mon, 03 Feb 2025) EndedAt: 2025-02-03 17:05:52 -0500 (Mon, 03 Feb 2025) EllapsedTime: 8.3 seconds RetCode: 0 Status: OK