Package: sigsquared Version: 1.38.0 Command: rm -rf sigsquared.buildbin-libdir && mkdir sigsquared.buildbin-libdir && /Users/biocbuild/BBS/utils/build-universal.sh sigsquared_1.38.0.tar.gz /Library/Frameworks/R.framework/Resources/bin/R sigsquared.buildbin-libdir StartedAt: 2025-01-31 13:43:11 -0500 (Fri, 31 Jan 2025) EndedAt: 2025-01-31 13:43:29 -0500 (Fri, 31 Jan 2025) EllapsedTime: 18.3 seconds RetCode: 0 Status: OK PackageFile: sigsquared_1.38.0.tgz PackageFileSize: 421.9 KiB