Package: sigsquared Version: 1.38.0 Command: /Library/Frameworks/R.framework/Resources/bin/R CMD build --keep-empty-dirs --no-resave-data sigsquared StartedAt: 2025-02-03 22:22:27 -0500 (Mon, 03 Feb 2025) EndedAt: 2025-02-03 22:23:25 -0500 (Mon, 03 Feb 2025) EllapsedTime: 57.1 seconds RetCode: 0 Status: OK PackageFile: sigsquared_1.38.0.tar.gz PackageFileSize: 441.8 KiB