Package: sigsquared Version: 1.38.0 Command: /home/biocbuild/bbs-3.20-bioc/R/bin/R CMD check --install=check:sigsquared.install-out.txt --library=/home/biocbuild/bbs-3.20-bioc/R/site-library --timings sigsquared_1.38.0.tar.gz StartedAt: 2025-02-04 02:31:14 -0500 (Tue, 04 Feb 2025) EndedAt: 2025-02-04 02:32:20 -0500 (Tue, 04 Feb 2025) EllapsedTime: 66.1 seconds RetCode: 0 Status: OK CheckDir: sigsquared.Rcheck Warnings: 0