Package: sigsquared Version: 1.38.0 Command: rm -rf sigsquared.buildbin-libdir && mkdir sigsquared.buildbin-libdir && F:\biocbuild\bbs-3.20-bioc\R\bin\R.exe CMD INSTALL --build --library=sigsquared.buildbin-libdir sigsquared_1.38.0.tar.gz StartedAt: 2025-02-04 09:32:09 -0500 (Tue, 04 Feb 2025) EndedAt: 2025-02-04 09:33:13 -0500 (Tue, 04 Feb 2025) EllapsedTime: 64.5 seconds RetCode: 0 Status: OK PackageFile: sigsquared_1.38.0.zip PackageFileSize: 325.5 KiB