Package: sigsquared Version: 1.38.0 Command: /home/biocbuild/R/R/bin/R CMD build --keep-empty-dirs --no-resave-data sigsquared StartedAt: 2025-02-04 03:01:02 -0000 (Tue, 04 Feb 2025) EndedAt: 2025-02-04 03:01:37 -0000 (Tue, 04 Feb 2025) EllapsedTime: 35.1 seconds RetCode: 0 Status: OK PackageFile: sigsquared_1.38.0.tar.gz PackageFileSize: 435 KiB