Package: sigsquared Version: 1.38.0 Command: /home/biocbuild/R/R/bin/R CMD INSTALL sigsquared StartedAt: 2025-02-03 21:04:03 -0000 (Mon, 03 Feb 2025) EndedAt: 2025-02-03 21:04:12 -0000 (Mon, 03 Feb 2025) EllapsedTime: 8.9 seconds RetCode: 0 Status: OK