Package: simPIC Version: 1.2.0 Command: /Library/Frameworks/R.framework/Resources/bin/R CMD check --install=check:simPIC.install-out.txt --library=/Library/Frameworks/R.framework/Resources/library --no-vignettes --timings simPIC_1.2.0.tar.gz StartedAt: 2025-02-04 10:14:45 -0500 (Tue, 04 Feb 2025) EndedAt: 2025-02-04 10:21:17 -0500 (Tue, 04 Feb 2025) EllapsedTime: 391.4 seconds RetCode: 0 Status: OK CheckDir: simPIC.Rcheck Warnings: 0