Package: simPIC Version: 1.2.0 Command: F:\biocbuild\bbs-3.20-bioc\R\bin\R.exe CMD check --no-multiarch --install=check:simPIC.install-out.txt --library=F:\biocbuild\bbs-3.20-bioc\R\library --no-vignettes --timings simPIC_1.2.0.tar.gz StartedAt: 2025-02-04 06:20:51 -0500 (Tue, 04 Feb 2025) EndedAt: 2025-02-04 06:24:42 -0500 (Tue, 04 Feb 2025) EllapsedTime: 230.7 seconds RetCode: 0 Status: OK CheckDir: simPIC.Rcheck Warnings: 0