Package: simPIC Version: 1.2.0 Command: /home/biocbuild/R/R/bin/R CMD build --keep-empty-dirs --no-resave-data simPIC StartedAt: 2025-02-04 03:02:30 -0000 (Tue, 04 Feb 2025) EndedAt: 2025-02-04 03:03:41 -0000 (Tue, 04 Feb 2025) EllapsedTime: 71.1 seconds RetCode: 0 Status: OK PackageFile: simPIC_1.2.0.tar.gz PackageFileSize: 1.181 MiB