Package: simPIC Version: 1.2.0 Command: /home/biocbuild/R/R/bin/R CMD check --install=check:simPIC.install-out.txt --library=/home/biocbuild/R/R/site-library --no-vignettes --timings simPIC_1.2.0.tar.gz StartedAt: 2025-02-04 11:08:14 -0000 (Tue, 04 Feb 2025) EndedAt: 2025-02-04 11:11:54 -0000 (Tue, 04 Feb 2025) EllapsedTime: 220.3 seconds RetCode: 0 Status: OK CheckDir: simPIC.Rcheck Warnings: 0