Package: simona Version: 1.4.0 Command: rm -rf simona.buildbin-libdir && mkdir simona.buildbin-libdir && /Users/biocbuild/BBS/utils/build-universal.sh simona_1.4.0.tar.gz /Library/Frameworks/R.framework/Resources/bin/R simona.buildbin-libdir StartedAt: 2025-02-01 16:55:39 -0500 (Sat, 01 Feb 2025) EndedAt: 2025-02-01 16:56:55 -0500 (Sat, 01 Feb 2025) EllapsedTime: 75.4 seconds RetCode: 0 Status: OK PackageFile: simona_1.4.0.tgz PackageFileSize: 1.912 MiB