Package: simona Version: 1.4.0 Command: /home/biocbuild/R/R/bin/R CMD check --install=check:simona.install-out.txt --library=/home/biocbuild/R/R/site-library --no-vignettes --timings simona_1.4.0.tar.gz StartedAt: 2025-01-31 10:28:40 -0000 (Fri, 31 Jan 2025) EndedAt: 2025-01-31 10:31:02 -0000 (Fri, 31 Jan 2025) EllapsedTime: 141.1 seconds RetCode: 0 Status: OK CheckDir: simona.Rcheck Warnings: 0