Package: simpleSeg Version: 1.8.0 Command: rm -rf simpleSeg.buildbin-libdir && mkdir simpleSeg.buildbin-libdir && /Users/biocbuild/BBS/utils/build-universal.sh simpleSeg_1.8.0.tar.gz /Library/Frameworks/R.framework/Resources/bin/R simpleSeg.buildbin-libdir StartedAt: 2025-01-31 13:43:34 -0500 (Fri, 31 Jan 2025) EndedAt: 2025-01-31 13:45:23 -0500 (Fri, 31 Jan 2025) EllapsedTime: 109.0 seconds RetCode: 0 Status: OK PackageFile: simpleSeg_1.8.0.tgz PackageFileSize: 4.708 MiB