Package: simpleSeg Version: 1.8.0 Command: /Library/Frameworks/R.framework/Resources/bin/R CMD check --install=check:simpleSeg.install-out.txt --library=/Library/Frameworks/R.framework/Resources/library --no-vignettes --timings simpleSeg_1.8.0.tar.gz StartedAt: 2025-01-31 10:11:30 -0500 (Fri, 31 Jan 2025) EndedAt: 2025-01-31 10:24:18 -0500 (Fri, 31 Jan 2025) EllapsedTime: 768.1 seconds RetCode: 0 Status: OK CheckDir: simpleSeg.Rcheck Warnings: 0