Package: simpleSeg Version: 1.8.0 Command: /Library/Frameworks/R.framework/Resources/bin/R CMD INSTALL simpleSeg StartedAt: 2025-01-30 16:13:27 -0500 (Thu, 30 Jan 2025) EndedAt: 2025-01-30 16:15:12 -0500 (Thu, 30 Jan 2025) EllapsedTime: 105.7 seconds RetCode: 0 Status: OK