Package: simpleSeg Version: 1.8.0 Command: /home/biocbuild/bbs-3.20-bioc/R/bin/R CMD INSTALL simpleSeg StartedAt: 2025-02-03 15:50:17 -0500 (Mon, 03 Feb 2025) EndedAt: 2025-02-03 15:51:04 -0500 (Mon, 03 Feb 2025) EllapsedTime: 47.2 seconds RetCode: 0 Status: OK