Package: simpleSeg Version: 1.8.0 Command: chmod a+r simpleSeg -R && F:\biocbuild\bbs-3.20-bioc\R\bin\R.exe CMD build --keep-empty-dirs --no-resave-data simpleSeg StartedAt: 2025-02-03 22:11:20 -0500 (Mon, 03 Feb 2025) EndedAt: 2025-02-03 22:14:57 -0500 (Mon, 03 Feb 2025) EllapsedTime: 217.4 seconds RetCode: 0 Status: OK PackageFile: simpleSeg_1.8.0.tar.gz PackageFileSize: 4.462 MiB