Package: simplifyEnrichment Version: 2.0.0 Command: /Library/Frameworks/R.framework/Resources/bin/R CMD check --install=check:simplifyEnrichment.install-out.txt --library=/Library/Frameworks/R.framework/Resources/library --no-vignettes --timings simplifyEnrichment_2.0.0.tar.gz StartedAt: 2025-02-04 10:15:05 -0500 (Tue, 04 Feb 2025) EndedAt: 2025-02-04 10:20:39 -0500 (Tue, 04 Feb 2025) EllapsedTime: 334.4 seconds RetCode: 0 Status: OK CheckDir: simplifyEnrichment.Rcheck Warnings: 0