Package: simplifyEnrichment Version: 2.0.0 Command: /home/biocbuild/bbs-3.20-bioc/R/bin/R CMD build --keep-empty-dirs --no-resave-data --md5 simplifyEnrichment StartedAt: 2025-02-03 19:21:20 -0500 (Mon, 03 Feb 2025) EndedAt: 2025-02-03 19:21:38 -0500 (Mon, 03 Feb 2025) EllapsedTime: 18.0 seconds RetCode: 0 Status: OK PackageFile: simplifyEnrichment_2.0.0.tar.gz PackageFileSize: 1.026 MiB