Package: simplifyEnrichment Version: 2.0.0 Command: /home/biocbuild/bbs-3.20-bioc/R/bin/R CMD INSTALL simplifyEnrichment StartedAt: 2025-02-03 15:47:26 -0500 (Mon, 03 Feb 2025) EndedAt: 2025-02-03 15:47:46 -0500 (Mon, 03 Feb 2025) EllapsedTime: 20.1 seconds RetCode: 0 Status: OK