Package: single Version: 1.10.0 Command: /Library/Frameworks/R.framework/Resources/bin/R CMD build --keep-empty-dirs --no-resave-data single StartedAt: 2025-01-31 08:13:27 -0500 (Fri, 31 Jan 2025) EndedAt: 2025-01-31 08:15:16 -0500 (Fri, 31 Jan 2025) EllapsedTime: 108.7 seconds RetCode: 0 Status: OK PackageFile: single_1.10.0.tar.gz PackageFileSize: 1.392 MiB