Package: single Version: 1.10.0 Command: /Library/Frameworks/R.framework/Resources/bin/R CMD check --install=check:single.install-out.txt --library=/Library/Frameworks/R.framework/Resources/library --no-vignettes --timings single_1.10.0.tar.gz StartedAt: 2025-01-31 10:12:09 -0500 (Fri, 31 Jan 2025) EndedAt: 2025-01-31 10:19:15 -0500 (Fri, 31 Jan 2025) EllapsedTime: 425.3 seconds RetCode: 0 Status: OK CheckDir: single.Rcheck Warnings: 0