Package: single Version: 1.10.0 Command: /home/biocbuild/bbs-3.20-bioc/R/bin/R CMD check --install=check:single.install-out.txt --library=/home/biocbuild/bbs-3.20-bioc/R/site-library --timings single_1.10.0.tar.gz StartedAt: 2025-01-31 02:23:20 -0500 (Fri, 31 Jan 2025) EndedAt: 2025-01-31 02:26:57 -0500 (Fri, 31 Jan 2025) EllapsedTime: 217.2 seconds RetCode: 1 Status: ERROR CheckDir: single.Rcheck Warnings: NA