Package: single Version: 1.10.0 Command: chmod a+r single -R && F:\biocbuild\bbs-3.20-bioc\R\bin\R.exe CMD build --keep-empty-dirs --no-resave-data single StartedAt: 2025-01-30 21:55:09 -0500 (Thu, 30 Jan 2025) EndedAt: 2025-01-30 21:57:02 -0500 (Thu, 30 Jan 2025) EllapsedTime: 113.1 seconds RetCode: 0 Status: OK PackageFile: single_1.10.0.tar.gz PackageFileSize: 1.392 MiB