Package: single Version: 1.10.0 Command: F:\biocbuild\bbs-3.20-bioc\R\bin\R.exe CMD INSTALL single StartedAt: 2025-01-30 16:00:33 -0500 (Thu, 30 Jan 2025) EndedAt: 2025-01-30 16:01:10 -0500 (Thu, 30 Jan 2025) EllapsedTime: 36.7 seconds RetCode: 0 Status: OK