Package: single Version: 1.10.0 Command: /home/biocbuild/R/R/bin/R CMD check --install=check:single.install-out.txt --library=/home/biocbuild/R/R/site-library --no-vignettes --timings single_1.10.0.tar.gz StartedAt: 2025-01-31 10:29:12 -0000 (Fri, 31 Jan 2025) EndedAt: 2025-01-31 10:33:05 -0000 (Fri, 31 Jan 2025) EllapsedTime: 232.2 seconds RetCode: 1 Status: ERROR CheckDir: single.Rcheck Warnings: NA