Package: singleCellTK Version: 2.16.0 Command: rm -rf singleCellTK.buildbin-libdir && mkdir singleCellTK.buildbin-libdir && /Users/biocbuild/BBS/utils/build-universal.sh singleCellTK_2.16.0.tar.gz /Library/Frameworks/R.framework/Resources/bin/R singleCellTK.buildbin-libdir StartedAt: 2025-02-05 17:52:06 -0500 (Wed, 05 Feb 2025) EndedAt: 2025-02-05 17:53:01 -0500 (Wed, 05 Feb 2025) EllapsedTime: 55.1 seconds RetCode: 0 Status: OK PackageFile: singleCellTK_2.16.0.tgz PackageFileSize: 4.564 MiB