Package: singleCellTK Version: 2.16.0 Command: /Library/Frameworks/R.framework/Resources/bin/R CMD check --install=check:singleCellTK.install-out.txt --library=/Library/Frameworks/R.framework/Resources/library --no-vignettes --timings singleCellTK_2.16.0.tar.gz StartedAt: 2025-02-05 10:28:49 -0500 (Wed, 05 Feb 2025) EndedAt: 2025-02-05 10:46:32 -0500 (Wed, 05 Feb 2025) EllapsedTime: 1063.6 seconds RetCode: 0 Status: OK CheckDir: singleCellTK.Rcheck Warnings: 0