Package: singleCellTK Version: 2.16.0 Command: /Library/Frameworks/R.framework/Resources/bin/R CMD INSTALL singleCellTK StartedAt: 2025-02-03 17:54:36 -0500 (Mon, 03 Feb 2025) EndedAt: 2025-02-03 17:55:26 -0500 (Mon, 03 Feb 2025) EllapsedTime: 50.1 seconds RetCode: 0 Status: OK