Package: singleCellTK
Version: 2.16.1
Command: /home/biocbuild/bbs-3.20-bioc/R/bin/R CMD INSTALL singleCellTK
StartedAt: 2025-02-17 15:57:39 -0500 (Mon, 17 Feb 2025)
EndedAt: 2025-02-17 15:58:18 -0500 (Mon, 17 Feb 2025)
EllapsedTime: 38.8 seconds
RetCode: 0
Status: OK