Package: singleCellTK Version: 2.16.0 Command: chmod a+r singleCellTK -R && F:\biocbuild\bbs-3.20-bioc\R\bin\R.exe CMD build --keep-empty-dirs --no-resave-data singleCellTK StartedAt: 2025-02-03 22:12:39 -0500 (Mon, 03 Feb 2025) EndedAt: 2025-02-03 22:16:49 -0500 (Mon, 03 Feb 2025) EllapsedTime: 249.5 seconds RetCode: 0 Status: OK PackageFile: singleCellTK_2.16.0.tar.gz PackageFileSize: 3.239 MiB