Package: sitadela
Version: 1.14.0
Maintainer: Panagiotis Moulos
MaintainerEmail: moulos at fleming.gr
git_url: https://git.bioconductor.org/packages/sitadela
git_branch: RELEASE_3_20
git_last_commit: 5de4c47
git_last_commit_date: 2024-10-29 10:56:54 -0500 (Tue, 29 Oct 2024)