Package: sitadela Version: 1.14.0 Command: /Library/Frameworks/R.framework/Resources/bin/R CMD build --keep-empty-dirs --no-resave-data sitadela StartedAt: 2025-02-04 08:32:05 -0500 (Tue, 04 Feb 2025) EndedAt: 2025-02-04 08:35:04 -0500 (Tue, 04 Feb 2025) EllapsedTime: 178.6 seconds RetCode: 0 Status: OK PackageFile: sitadela_1.14.0.tar.gz PackageFileSize: 484.9 KiB