Package: sitadela Version: 1.14.0 Command: /home/biocbuild/bbs-3.20-bioc/R/bin/R CMD build --keep-empty-dirs --no-resave-data --md5 sitadela StartedAt: 2025-02-03 19:22:42 -0500 (Mon, 03 Feb 2025) EndedAt: 2025-02-03 19:25:00 -0500 (Mon, 03 Feb 2025) EllapsedTime: 138.2 seconds RetCode: 0 Status: OK PackageFile: sitadela_1.14.0.tar.gz PackageFileSize: 486.8 KiB