Package: sitadela Version: 1.14.0 Command: rm -rf sitadela.buildbin-libdir && mkdir sitadela.buildbin-libdir && F:\biocbuild\bbs-3.20-bioc\R\bin\R.exe CMD INSTALL --build --library=sitadela.buildbin-libdir sitadela_1.14.0.tar.gz StartedAt: 2025-02-04 09:33:10 -0500 (Tue, 04 Feb 2025) EndedAt: 2025-02-04 09:34:03 -0500 (Tue, 04 Feb 2025) EllapsedTime: 52.7 seconds RetCode: 0 Status: OK PackageFile: sitadela_1.14.0.zip PackageFileSize: 720 KiB