Package: sitadela Version: 1.14.0 Command: F:\biocbuild\bbs-3.20-bioc\R\bin\R.exe CMD check --no-multiarch --install=check:sitadela.install-out.txt --library=F:\biocbuild\bbs-3.20-bioc\R\library --no-vignettes --timings sitadela_1.14.0.tar.gz StartedAt: 2025-02-04 06:24:44 -0500 (Tue, 04 Feb 2025) EndedAt: 2025-02-04 06:31:04 -0500 (Tue, 04 Feb 2025) EllapsedTime: 380.2 seconds RetCode: 0 Status: OK CheckDir: sitadela.Rcheck Warnings: 0