Package: sitadela Version: 1.14.0 Command: /home/biocbuild/R/R/bin/R CMD build --keep-empty-dirs --no-resave-data sitadela StartedAt: 2025-02-04 03:05:14 -0000 (Tue, 04 Feb 2025) EndedAt: 2025-02-04 03:08:34 -0000 (Tue, 04 Feb 2025) EllapsedTime: 200.4 seconds RetCode: 0 Status: OK PackageFile: sitadela_1.14.0.tar.gz PackageFileSize: 550.5 KiB