Package: sitePath Version: 1.22.0 Command: /Library/Frameworks/R.framework/Resources/bin/R CMD INSTALL sitePath StartedAt: 2025-01-30 16:20:28 -0500 (Thu, 30 Jan 2025) EndedAt: 2025-01-30 16:21:00 -0500 (Thu, 30 Jan 2025) EllapsedTime: 32.0 seconds RetCode: 0 Status: OK