Package: sitePath Version: 1.22.0 Command: /Library/Frameworks/R.framework/Resources/bin/R CMD build --keep-empty-dirs --no-resave-data sitePath StartedAt: 2025-01-30 22:59:19 -0500 (Thu, 30 Jan 2025) EndedAt: 2025-01-30 23:01:23 -0500 (Thu, 30 Jan 2025) EllapsedTime: 123.8 seconds RetCode: 0 Status: OK PackageFile: sitePath_1.22.0.tar.gz PackageFileSize: 1.241 MiB