Package: sitePath Version: 1.22.0 Command: /Library/Frameworks/R.framework/Resources/bin/R CMD INSTALL sitePath StartedAt: 2025-01-30 15:47:03 -0500 (Thu, 30 Jan 2025) EndedAt: 2025-01-30 15:48:15 -0500 (Thu, 30 Jan 2025) EllapsedTime: 71.7 seconds RetCode: 0 Status: OK