Package: sitePath Version: 1.22.0 Command: /home/biocbuild/bbs-3.20-bioc/R/bin/R CMD INSTALL sitePath StartedAt: 2025-02-03 15:28:32 -0500 (Mon, 03 Feb 2025) EndedAt: 2025-02-03 15:29:06 -0500 (Mon, 03 Feb 2025) EllapsedTime: 34.1 seconds RetCode: 0 Status: OK