Package: sitePath Version: 1.22.0 Command: /home/biocbuild/R/R/bin/R CMD INSTALL sitePath StartedAt: 2025-02-03 20:48:21 -0000 (Mon, 03 Feb 2025) EndedAt: 2025-02-03 20:49:09 -0000 (Mon, 03 Feb 2025) EllapsedTime: 48.7 seconds RetCode: 0 Status: OK