Package: sizepower Version: 1.76.0 Command: /Library/Frameworks/R.framework/Resources/bin/R CMD build --keep-empty-dirs --no-resave-data sizepower StartedAt: 2025-01-31 08:20:24 -0500 (Fri, 31 Jan 2025) EndedAt: 2025-01-31 08:20:33 -0500 (Fri, 31 Jan 2025) EllapsedTime: 9.1 seconds RetCode: 0 Status: OK PackageFile: sizepower_1.76.0.tar.gz PackageFileSize: 295.9 KiB